BEGIN:VCALENDAR
VERSION:2.0
METHOD:PUBLISH
CALSCALE:GREGORIAN
PRODID:-//Refresh Web Development//Helios Calendar//EN
X-FROM-URL:https://www.bayareascience.org/calendar/index.php?com=details&eID=31687
X-WR-RELCALID:BayAreaScience.org Florilegia: From Historic Voyages to the Present-day Revival - Livestream 20220124T100000
X-WR-TIMEZONE:America/New_York
X-WR-CALNAME:BayAreaScience.org
BEGIN:VEVENT
URL;VALUE=URI:https://www.bayareascience.org/calendar/index.php?com=detail&eID=31687
DTSTART:20220124T100000
DTEND:20220124T110000
SUMMARY:Florilegia: From Historic Voyages to the Present-day Revival - Livestream
DESCRIPTION:A florilegium is a collection of botanical illustrations depicting the plants of a notable location. This online lecture by botanical artist Catherine Watters will take you on a journey from 16th...\n______________________________\nThis Event Downloaded From a Helios Calendar Powered Site
LOCATION:UC Botanical Garden -  \, \, CA  
CATEGORIES:BayAreaScience.org Events
PRIORITY:0
TRANSP:TRANSPARENT
END:VEVENT
END:VCALENDAR