BEGIN:VCALENDAR
VERSION:2.0
METHOD:PUBLISH
CALSCALE:GREGORIAN
PRODID:-//Refresh Web Development//Helios Calendar//EN
X-FROM-URL:https://www.bayareascience.org/calendar/index.php?com=details&eID=31693
X-WR-RELCALID:BayAreaScience.org Rationality: What It Is, Why It Seems Scarce, Why It Matters - Livestream 20220106T160000
X-WR-TIMEZONE:America/New_York
X-WR-CALNAME:BayAreaScience.org
BEGIN:VEVENT
URL;VALUE=URI:https://www.bayareascience.org/calendar/index.php?com=detail&eID=31693
DTSTART:20220106T160000
DTEND:20220106T160000
SUMMARY:Rationality: What It Is\, Why It Seems Scarce\, Why It Matters - Livestream
DESCRIPTION:Today humanity is reaching new heights of scientific understanding--and also appears to be losing its mind. How can a species that developed vaccines for Covid-19 in less than a year produce so...\n______________________________\nThis Event Downloaded From a Helios Calendar Powered Site
LOCATION:Skeptical Inquirer -  \, \, CA  
CATEGORIES:BayAreaScience.org Events
PRIORITY:0
TRANSP:TRANSPARENT
END:VEVENT
END:VCALENDAR