BEGIN:VCALENDAR
VERSION:2.0
METHOD:PUBLISH
CALSCALE:GREGORIAN
PRODID:-//Refresh Web Development//Helios Calendar//EN
X-FROM-URL:https://www.bayareascience.org/calendar/index.php?com=details&eID=31696
X-WR-RELCALID:BayAreaScience.org Often Mysterious Fungal Relationships in Different Habitats - Livestream 20220112T193000
X-WR-TIMEZONE:America/New_York
X-WR-CALNAME:BayAreaScience.org
BEGIN:VEVENT
URL;VALUE=URI:https://www.bayareascience.org/calendar/index.php?com=detail&eID=31696
DTSTART:20220112T193000
DTEND:20220112T193000
SUMMARY:Often Mysterious Fungal Relationships in Different Habitats - Livestream
DESCRIPTION:The majestic Coast Redwoods are...\n______________________________\nThis Event Downloaded From a Helios Calendar Powered Site
LOCATION:Fungus Federation of Santa Cruz -  \, \, CA  
CATEGORIES:BayAreaScience.org Events
PRIORITY:0
TRANSP:TRANSPARENT
END:VEVENT
END:VCALENDAR