BEGIN:VCALENDAR
VERSION:2.0
METHOD:PUBLISH
CALSCALE:GREGORIAN
PRODID:-//Refresh Web Development//Helios Calendar//EN
X-FROM-URL:https://www.bayareascience.org/calendar/index.php?com=details&eID=31701
X-WR-RELCALID:BayAreaScience.org 18th Annual Bringing Back the Natives Garden Tour - Online 20220417T100000
X-WR-TIMEZONE:America/New_York
X-WR-CALNAME:BayAreaScience.org
BEGIN:VEVENT
URL;VALUE=URI:https://www.bayareascience.org/calendar/index.php?com=detail&eID=31701
DTSTART:20220417T100000
DTEND:20220417T150000
SUMMARY:18th Annual Bringing Back the Natives Garden Tour - Online
DESCRIPTION:See weblink for additional informationIn-person tours will be held April 30 and May 1\n______________________________\nThis Event Downloaded From a Helios Calendar Powered Site
LOCATION:Bringing Back the Natives -  \, \, CA  
CATEGORIES:BayAreaScience.org Events
PRIORITY:0
TRANSP:TRANSPARENT
END:VEVENT
END:VCALENDAR