BEGIN:VCALENDAR
VERSION:2.0
METHOD:PUBLISH
CALSCALE:GREGORIAN
PRODID:-//Refresh Web Development//Helios Calendar//EN
X-FROM-URL:https://www.bayareascience.org/calendar/index.php?com=details&eID=31705
X-WR-RELCALID:BayAreaScience.org From Dinosaurs to Nuclear Waste - an adventure in physics - Livestream 20220131T161500
X-WR-TIMEZONE:America/New_York
X-WR-CALNAME:BayAreaScience.org
BEGIN:VEVENT
URL;VALUE=URI:https://www.bayareascience.org/calendar/index.php?com=detail&eID=31705
DTSTART:20220131T161500
DTEND:20220131T171500
SUMMARY:From Dinosaurs to Nuclear Waste - an adventure in physics - Livestream
DESCRIPTION:My research in 1985 on the death of the dinosaurs led directly to my current work disposing of nuclear waste. After I retired from academic research\, my daughter and I founded a company\, Deep Isolation...\n______________________________\nThis Event Downloaded From a Helios Calendar Powered Site
LOCATION:UC Berkeley -  \, \, CA  
CATEGORIES:BayAreaScience.org Events
PRIORITY:0
TRANSP:TRANSPARENT
END:VEVENT
END:VCALENDAR