BEGIN:VCALENDAR
VERSION:2.0
METHOD:PUBLISH
CALSCALE:GREGORIAN
PRODID:-//Refresh Web Development//Helios Calendar//EN
X-FROM-URL:https://www.bayareascience.org/calendar/index.php?com=details&eID=31707
X-WR-RELCALID:BayAreaScience.org Cultivating Equity-Focused Change in University Physics Departments - Livestream 20220228T161500
X-WR-TIMEZONE:America/New_York
X-WR-CALNAME:BayAreaScience.org
BEGIN:VEVENT
URL;VALUE=URI:https://www.bayareascience.org/calendar/index.php?com=detail&eID=31707
DTSTART:20220228T161500
DTEND:20220228T171500
SUMMARY:Cultivating Equity-Focused Change in University Physics Departments - Livestream
DESCRIPTION:Discipline-based education research has made great strides in understanding how to foster more equitable and effective education in science\, technology\, engineering\, and mathematics (STEM). However\,...\n______________________________\nThis Event Downloaded From a Helios Calendar Powered Site
LOCATION:UC Berkeley -  \, \, CA  
CATEGORIES:BayAreaScience.org Events
PRIORITY:0
TRANSP:TRANSPARENT
END:VEVENT
END:VCALENDAR