BEGIN:VCALENDAR
VERSION:2.0
METHOD:PUBLISH
CALSCALE:GREGORIAN
PRODID:-//Refresh Web Development//Helios Calendar//EN
X-FROM-URL:https://www.bayareascience.org/calendar/index.php?com=details&eID=31709
X-WR-RELCALID:BayAreaScience.org Mining the transient sky in the new era of Time Domain Multi-Messenger investigations 20220411T161500
X-WR-TIMEZONE:America/New_York
X-WR-CALNAME:BayAreaScience.org
BEGIN:VEVENT
URL;VALUE=URI:https://www.bayareascience.org/calendar/index.php?com=detail&eID=31709
DTSTART:20220411T161500
DTEND:20220411T171500
SUMMARY:Mining the transient sky in the new era of Time Domain Multi-Messenger investigations
DESCRIPTION:Astronomical transients are events that appear and disappear in the night sky\, and are signposts of catastrophic events in space\, including the most extreme stellar deaths\, stellar tidal disruptions...\n______________________________\nThis Event Downloaded From a Helios Calendar Powered Site
LOCATION:Physics North - UC Berkeley Room 1\, Berkeley\, CA  94720
CATEGORIES:BayAreaScience.org Events
PRIORITY:0
TRANSP:TRANSPARENT
END:VEVENT
END:VCALENDAR