BEGIN:VCALENDAR
VERSION:2.0
METHOD:PUBLISH
CALSCALE:GREGORIAN
PRODID:-//Refresh Web Development//Helios Calendar//EN
X-FROM-URL:https://www.bayareascience.org/calendar/index.php?com=details&eID=31711
X-WR-RELCALID:BayAreaScience.org Recent inertial confinement fusion experiments at NIF reaching 1.35 MJ and the Lawson criterion for ignition  - Livestream 20220328T161500
X-WR-TIMEZONE:America/New_York
X-WR-CALNAME:BayAreaScience.org
BEGIN:VEVENT
URL;VALUE=URI:https://www.bayareascience.org/calendar/index.php?com=detail&eID=31711
DTSTART:20220328T161500
DTEND:20220328T171500
SUMMARY:Recent inertial confinement fusion experiments at NIF reaching 1.35 MJ and the Lawson criterion for ignition  - Livestream
DESCRIPTION:The inertial fusion community have been working towards ignition for decades\, since the idea of inertial confinement fusion (ICF) was first proposed by Nuckolls\, et al.\, in 1972.Â  On August...\n______________________________\nThis Event Downloaded From a Helios Calendar Powered Site
LOCATION:UC Berkeley -  \, \, CA  
CATEGORIES:BayAreaScience.org Events
PRIORITY:0
TRANSP:TRANSPARENT
END:VEVENT
END:VCALENDAR