BEGIN:VCALENDAR
VERSION:2.0
METHOD:PUBLISH
CALSCALE:GREGORIAN
PRODID:-//Refresh Web Development//Helios Calendar//EN
X-FROM-URL:https://www.bayareascience.org/calendar/index.php?com=details&eID=31715
X-WR-RELCALID:BayAreaScience.org The Science of Smell 20220119T183000
X-WR-TIMEZONE:America/New_York
X-WR-CALNAME:BayAreaScience.org
BEGIN:VEVENT
URL;VALUE=URI:https://www.bayareascience.org/calendar/index.php?com=detail&eID=31715
DTSTART:20220119T183000
DTEND:20220119T193000
SUMMARY:The Science of Smell
DESCRIPTION:In 2010\, Harold McGee\, world-renowned authority on the chemistry of foods and cooking\, began work on a book about the flavors of food and drink. A decade later\, he published a book about food and...\n______________________________\nThis Event Downloaded From a Helios Calendar Powered Site
LOCATION:San Mateo Public Library -  \, \, CA  
CATEGORIES:BayAreaScience.org Events
PRIORITY:0
TRANSP:TRANSPARENT
END:VEVENT
END:VCALENDAR