BEGIN:VCALENDAR
VERSION:2.0
METHOD:PUBLISH
CALSCALE:GREGORIAN
PRODID:-//Refresh Web Development//Helios Calendar//EN
X-FROM-URL:https://www.bayareascience.org/calendar/index.php?com=details&eID=31721
X-WR-RELCALID:BayAreaScience.org Engaging Elders in Climate Action - Livestream 20220109T140000
X-WR-TIMEZONE:America/New_York
X-WR-CALNAME:BayAreaScience.org
BEGIN:VEVENT
URL;VALUE=URI:https://www.bayareascience.org/calendar/index.php?com=detail&eID=31721
DTSTART:20220109T140000
DTEND:20220109T160000
SUMMARY:Engaging Elders in Climate Action - Livestream
DESCRIPTION:Since 1989\, with his bestsellerÂ The End of Nature\, New York writer and climate visionaryÂ Bill McKibbenhas been at the forefront of inspiring climate action. In 2008\,...\n______________________________\nThis Event Downloaded From a Helios Calendar Powered Site
LOCATION:Ashby Village -  \, \, CA  
CATEGORIES:BayAreaScience.org Events
PRIORITY:0
TRANSP:TRANSPARENT
END:VEVENT
END:VCALENDAR