BEGIN:VCALENDAR
VERSION:2.0
METHOD:PUBLISH
CALSCALE:GREGORIAN
PRODID:-//Refresh Web Development//Helios Calendar//EN
X-FROM-URL:https://www.bayareascience.org/calendar/index.php?com=details&eID=31722
X-WR-RELCALID:BayAreaScience.org  SETI Talks: AI - Augmenting humanity for good - Livestream 20220119T090000
X-WR-TIMEZONE:America/New_York
X-WR-CALNAME:BayAreaScience.org
BEGIN:VEVENT
URL;VALUE=URI:https://www.bayareascience.org/calendar/index.php?com=detail&eID=31722
DTSTART:20220119T090000
DTEND:20220119T100000
SUMMARY: SETI Talks: AI - Augmenting humanity for good - Livestream
DESCRIPTION:Artificial Intelligence (AI) is probably one of the most revolutionary developments in human history\, and the world is already witnessing its transformative capabilities. Like most great inventions...\n______________________________\nThis Event Downloaded From a Helios Calendar Powered Site
LOCATION:SETI Institute -  \, \, CA  
CATEGORIES:BayAreaScience.org Events
PRIORITY:0
TRANSP:TRANSPARENT
END:VEVENT
END:VCALENDAR