BEGIN:VCALENDAR
VERSION:2.0
METHOD:PUBLISH
CALSCALE:GREGORIAN
PRODID:-//Refresh Web Development//Helios Calendar//EN
X-FROM-URL:https://www.bayareascience.org/calendar/index.php?com=details&eID=31724
X-WR-RELCALID:BayAreaScience.org VIPER: The Volatiles Investigating Polar Exploration Rover - Resource mapping on the lunar south pole - Livestream 20220121T193000
X-WR-TIMEZONE:America/New_York
X-WR-CALNAME:BayAreaScience.org
BEGIN:VEVENT
URL;VALUE=URI:https://www.bayareascience.org/calendar/index.php?com=detail&eID=31724
DTSTART:20220121T193000
DTEND:20220121T193000
SUMMARY:VIPER: The Volatiles Investigating Polar Exploration Rover - Resource mapping on the lunar south pole - Livestream
DESCRIPTION:As recently as two decades ago\, our understanding of the Moon was very different. We believed the Moon was fairly uniform and very\, very dry. Recent missions have upended that vision\, showing that...\n______________________________\nThis Event Downloaded From a Helios Calendar Powered Site
LOCATION:Tri-Valley Stargazers -  \, \, CA  
CATEGORIES:BayAreaScience.org Events
PRIORITY:0
TRANSP:TRANSPARENT
END:VEVENT
END:VCALENDAR