BEGIN:VCALENDAR
VERSION:2.0
METHOD:PUBLISH
CALSCALE:GREGORIAN
PRODID:-//Refresh Web Development//Helios Calendar//EN
X-FROM-URL:https://www.bayareascience.org/calendar/index.php?com=details&eID=31726
X-WR-RELCALID:BayAreaScience.org The Future of Mental Health Apps 20220128T180000
X-WR-TIMEZONE:America/New_York
X-WR-CALNAME:BayAreaScience.org
BEGIN:VEVENT
URL;VALUE=URI:https://www.bayareascience.org/calendar/index.php?com=detail&eID=31726
DTSTART:20220128T180000
DTEND:20220128T203000
SUMMARY:The Future of Mental Health Apps
DESCRIPTION:The digital mental health space was overgrowing even before the COVID-19 but\, stress and anxiety brought by the pandemic have increased the demand for virtual mental health services\, including...\n______________________________\nThis Event Downloaded From a Helios Calendar Powered Site
LOCATION:SF Health Tech - 111 Chestnut St \, San Francisco\, CA  94111
CATEGORIES:BayAreaScience.org Events
PRIORITY:0
TRANSP:TRANSPARENT
END:VEVENT
END:VCALENDAR