BEGIN:VCALENDAR
VERSION:2.0
METHOD:PUBLISH
CALSCALE:GREGORIAN
PRODID:-//Refresh Web Development//Helios Calendar//EN
X-FROM-URL:https://www.bayareascience.org/calendar/index.php?com=details&eID=31744
X-WR-RELCALID:BayAreaScience.org Copepods through a molecular lens - Livestream 20220309T154000
X-WR-TIMEZONE:America/New_York
X-WR-CALNAME:BayAreaScience.org
BEGIN:VEVENT
URL;VALUE=URI:https://www.bayareascience.org/calendar/index.php?com=detail&eID=31744
DTSTART:20220309T154000
DTEND:20220309T154000
SUMMARY:Copepods through a molecular lens - Livestream
DESCRIPTION:Diapause is a type of dormancy used in arthropods to enter a state of â€œsuspended animationâ€ that\, with a delay of development\, allow organisms to overcome periods of unfavorable conditions....\n______________________________\nThis Event Downloaded From a Helios Calendar Powered Site
LOCATION:Estuary & Ocean Science Center -  \, \, CA  
CATEGORIES:BayAreaScience.org Events
PRIORITY:0
TRANSP:TRANSPARENT
END:VEVENT
END:VCALENDAR