BEGIN:VCALENDAR
VERSION:2.0
METHOD:PUBLISH
CALSCALE:GREGORIAN
PRODID:-//Refresh Web Development//Helios Calendar//EN
X-FROM-URL:https://www.bayareascience.org/calendar/index.php?com=details&eID=31745
X-WR-RELCALID:BayAreaScience.org Abalone, the remarkable history and uncertain future of California's iconic shellfish - Livestream 20220413T154000
X-WR-TIMEZONE:America/New_York
X-WR-CALNAME:BayAreaScience.org
BEGIN:VEVENT
URL;VALUE=URI:https://www.bayareascience.org/calendar/index.php?com=detail&eID=31745
DTSTART:20220413T154000
DTEND:20220413T154000
SUMMARY:Abalone\, the remarkable history and uncertain future of California's iconic shellfish - Livestream
DESCRIPTION:Prized for their iridescent shells and delectable meat\, abalone have a long and rich cultural history in California\; but with increasing stresses to marine ecosystems today\, these unique mollusks...\n______________________________\nThis Event Downloaded From a Helios Calendar Powered Site
LOCATION:Estuary & Ocean Science Center -  \, \, CA  
CATEGORIES:BayAreaScience.org Events
PRIORITY:0
TRANSP:TRANSPARENT
END:VEVENT
END:VCALENDAR