BEGIN:VCALENDAR
VERSION:2.0
METHOD:PUBLISH
CALSCALE:GREGORIAN
PRODID:-//Refresh Web Development//Helios Calendar//EN
X-FROM-URL:https://www.bayareascience.org/calendar/index.php?com=details&eID=31747
X-WR-RELCALID:BayAreaScience.org Response of the Delta and Estuary to a major change in wastewater nutrient loading - Rescheduled 20220420T154000
X-WR-TIMEZONE:America/New_York
X-WR-CALNAME:BayAreaScience.org
BEGIN:VEVENT
URL;VALUE=URI:https://www.bayareascience.org/calendar/index.php?com=detail&eID=31747
DTSTART:20220420T154000
DTEND:20220420T154000
SUMMARY:Response of the Delta and Estuary to a major change in wastewater nutrient loading - Rescheduled
DESCRIPTION:In April of last year\, the largest wastewater treatment plant discharging waste into the Northern Sacramento San Joaquin Delta completed a >$2B upgrade to its treatment processes. This resulted...\n______________________________\nThis Event Downloaded From a Helios Calendar Powered Site
LOCATION:Estuary & Ocean Science Center -  \, \, CA  
CATEGORIES:BayAreaScience.org Events
PRIORITY:0
TRANSP:TRANSPARENT
END:VEVENT
END:VCALENDAR