BEGIN:VCALENDAR
VERSION:2.0
METHOD:PUBLISH
CALSCALE:GREGORIAN
PRODID:-//Refresh Web Development//Helios Calendar//EN
X-FROM-URL:https://www.bayareascience.org/calendar/index.php?com=details&eID=31754
X-WR-RELCALID:BayAreaScience.org Live from the Field: Conservation Through Art & Science - Livestream 20220214T120000
X-WR-TIMEZONE:America/New_York
X-WR-CALNAME:BayAreaScience.org
BEGIN:VEVENT
URL;VALUE=URI:https://www.bayareascience.org/calendar/index.php?com=detail&eID=31754
DTSTART:20220214T120000
DTEND:20220214T125000
SUMMARY:Live from the Field: Conservation Through Art & Science - Livestream
DESCRIPTION:Speakers: Six Researchers & Artists from Field Stations & Marine Labs Across the CountrySee link for Zoom information\n______________________________\nThis Event Downloaded From a Helios Calendar Powered Site
LOCATION:Sonoma State Biology Colloquium -  \, \, CA  
CATEGORIES:BayAreaScience.org Events
PRIORITY:0
TRANSP:TRANSPARENT
END:VEVENT
END:VCALENDAR