BEGIN:VCALENDAR
VERSION:2.0
METHOD:PUBLISH
CALSCALE:GREGORIAN
PRODID:-//Refresh Web Development//Helios Calendar//EN
X-FROM-URL:https://www.bayareascience.org/calendar/index.php?com=details&eID=31756
X-WR-RELCALID:BayAreaScience.org The Response of Bumble Bees and their Floral Food Sources to Wildfire in California - Livestream 20220228T120000
X-WR-TIMEZONE:America/New_York
X-WR-CALNAME:BayAreaScience.org
BEGIN:VEVENT
URL;VALUE=URI:https://www.bayareascience.org/calendar/index.php?com=detail&eID=31756
DTSTART:20220228T120000
DTEND:20220228T125000
SUMMARY:The Response of Bumble Bees and their Floral Food Sources to Wildfire in California - Livestream
DESCRIPTION:Speakers: John Mila\, US Geological SurveySee link for Zoom information\n______________________________\nThis Event Downloaded From a Helios Calendar Powered Site
LOCATION:Sonoma State Biology Colloquium -  \, \, CA  
CATEGORIES:BayAreaScience.org Events
PRIORITY:0
TRANSP:TRANSPARENT
END:VEVENT
END:VCALENDAR