BEGIN:VCALENDAR
VERSION:2.0
METHOD:PUBLISH
CALSCALE:GREGORIAN
PRODID:-//Refresh Web Development//Helios Calendar//EN
X-FROM-URL:https://www.bayareascience.org/calendar/index.php?com=details&eID=31758
X-WR-RELCALID:BayAreaScience.org Location, Recent History, and Natural History, are Key to Determining Impacts of 2021 Heatwave on Rocky Intertidal Communities - Livestream 20220314T120000
X-WR-TIMEZONE:America/New_York
X-WR-CALNAME:BayAreaScience.org
BEGIN:VEVENT
URL;VALUE=URI:https://www.bayareascience.org/calendar/index.php?com=detail&eID=31758
DTSTART:20220314T120000
DTEND:20220314T125000
SUMMARY:Location\, Recent History\, and Natural History\, are Key to Determining Impacts of 2021 Heatwave on Rocky Intertidal Communities - Livestream
DESCRIPTION:Speakers: Melissa Miner\, UC Santa CruzSee link for Zoom information\n______________________________\nThis Event Downloaded From a Helios Calendar Powered Site
LOCATION:Sonoma State Biology Colloquium -  \, \, CA  
CATEGORIES:BayAreaScience.org Events
PRIORITY:0
TRANSP:TRANSPARENT
END:VEVENT
END:VCALENDAR