BEGIN:VCALENDAR
VERSION:2.0
METHOD:PUBLISH
CALSCALE:GREGORIAN
PRODID:-//Refresh Web Development//Helios Calendar//EN
X-FROM-URL:https://www.bayareascience.org/calendar/index.php?com=details&eID=31764
X-WR-RELCALID:BayAreaScience.org The Physiological Impacts of Changing Snow Cover on a Montane Leaf Beetle - Livestream 20220404T120000
X-WR-TIMEZONE:America/New_York
X-WR-CALNAME:BayAreaScience.org
BEGIN:VEVENT
URL;VALUE=URI:https://www.bayareascience.org/calendar/index.php?com=detail&eID=31764
DTSTART:20220404T120000
DTEND:20220404T125000
SUMMARY:The Physiological Impacts of Changing Snow Cover on a Montane Leaf Beetle - Livestream
DESCRIPTION:Speakers: Kevin Roberts\, Stockholm UniversitySee link for Zoom information\n______________________________\nThis Event Downloaded From a Helios Calendar Powered Site
LOCATION:Sonoma State Biology Colloquium -  \, \, CA  
CATEGORIES:BayAreaScience.org Events
PRIORITY:0
TRANSP:TRANSPARENT
END:VEVENT
END:VCALENDAR