BEGIN:VCALENDAR
VERSION:2.0
METHOD:PUBLISH
CALSCALE:GREGORIAN
PRODID:-//Refresh Web Development//Helios Calendar//EN
X-FROM-URL:https://www.bayareascience.org/calendar/index.php?com=details&eID=31768
X-WR-RELCALID:BayAreaScience.org Language Development Across Communities and Cultures 20220312T110000
X-WR-TIMEZONE:America/New_York
X-WR-CALNAME:BayAreaScience.org
BEGIN:VEVENT
URL;VALUE=URI:https://www.bayareascience.org/calendar/index.php?com=detail&eID=31768
DTSTART:20220312T110000
DTEND:20220312T121500
SUMMARY:Language Development Across Communities and Cultures
DESCRIPTION:In this talk\, Dr. Mahesh Srinivasan will present recent work from his lab that challenges two broad claims within the field of developmental science: First\, that there are â€œoptimalâ€...\n______________________________\nThis Event Downloaded From a Helios Calendar Powered Site
LOCATION:Genetics and Plant Biology Building - UC Berkeley Room 100\, Berkeley\, CA  94720
CATEGORIES:BayAreaScience.org Events
PRIORITY:0
TRANSP:TRANSPARENT
END:VEVENT
END:VCALENDAR