BEGIN:VCALENDAR
VERSION:2.0
METHOD:PUBLISH
CALSCALE:GREGORIAN
PRODID:-//Refresh Web Development//Helios Calendar//EN
X-FROM-URL:https://www.bayareascience.org/calendar/index.php?com=details&eID=31769
X-WR-RELCALID:BayAreaScience.org A Life in Chemistry Shaped by Diseases and Medicine In Sub-Saharan Africa 20220409T110000
X-WR-TIMEZONE:America/New_York
X-WR-CALNAME:BayAreaScience.org
BEGIN:VEVENT
URL;VALUE=URI:https://www.bayareascience.org/calendar/index.php?com=detail&eID=31769
DTSTART:20220409T110000
DTEND:20220409T123000
SUMMARY:A Life in Chemistry Shaped by Diseases and Medicine In Sub-Saharan Africa
DESCRIPTION:Speaker: Richmond Sarpong is a Professor of Chemistry at the University of California Berkeley where he and his group specialize in synthetic organic chemistry. Richmond became interested in chemistry...\n______________________________\nThis Event Downloaded From a Helios Calendar Powered Site
LOCATION:Valley Life Sciences Building - UC Berkeley Room 2050\, Berkeley\, CA  94720
CATEGORIES:BayAreaScience.org Events
PRIORITY:0
TRANSP:TRANSPARENT
END:VEVENT
END:VCALENDAR