BEGIN:VCALENDAR
VERSION:2.0
METHOD:PUBLISH
CALSCALE:GREGORIAN
PRODID:-//Refresh Web Development//Helios Calendar//EN
X-FROM-URL:https://www.bayareascience.org/calendar/index.php?com=details&eID=31771
X-WR-RELCALID:BayAreaScience.org COVID Outbreaks and Outrages - Livestream 20220120T123000
X-WR-TIMEZONE:America/New_York
X-WR-CALNAME:BayAreaScience.org
BEGIN:VEVENT
URL;VALUE=URI:https://www.bayareascience.org/calendar/index.php?com=detail&eID=31771
DTSTART:20220120T123000
DTEND:20220120T123000
SUMMARY:COVID Outbreaks and Outrages - Livestream
DESCRIPTION:In her new documentary In the Same Breath\, director Nanfu Wang recounts the origin and spread of the novel coronavirus from the earliest days of the outbreak in Wuhan to its rampage across...\n______________________________\nThis Event Downloaded From a Helios Calendar Powered Site
LOCATION:Commonwealth Club - Online Event -  \, \, CA  
CATEGORIES:BayAreaScience.org Events
PRIORITY:0
TRANSP:TRANSPARENT
END:VEVENT
END:VCALENDAR