BEGIN:VCALENDAR
VERSION:2.0
METHOD:PUBLISH
CALSCALE:GREGORIAN
PRODID:-//Refresh Web Development//Helios Calendar//EN
X-FROM-URL:https://www.bayareascience.org/calendar/index.php?com=details&eID=31773
X-WR-RELCALID:BayAreaScience.org  Athermal Phonon Sensor R&D for Low-Mass Dark Matter Detectors - Livestream 20220124T100000
X-WR-TIMEZONE:America/New_York
X-WR-CALNAME:BayAreaScience.org
BEGIN:VEVENT
URL;VALUE=URI:https://www.bayareascience.org/calendar/index.php?com=detail&eID=31773
DTSTART:20220124T100000
DTEND:20220124T120000
SUMMARY: Athermal Phonon Sensor R&D for Low-Mass Dark Matter Detectors - Livestream
DESCRIPTION:In the direct detection of dark matter with masses down to O(keV)\, the energies im- parted in the detector become vanishingly small. Many novel ideas have been proposed for instrumenting athermal...\n______________________________\nThis Event Downloaded From a Helios Calendar Powered Site
LOCATION:SLAC Special Seminar -  \, \, CA  
CATEGORIES:BayAreaScience.org Events
PRIORITY:0
TRANSP:TRANSPARENT
END:VEVENT
END:VCALENDAR