BEGIN:VCALENDAR
VERSION:2.0
METHOD:PUBLISH
CALSCALE:GREGORIAN
PRODID:-//Refresh Web Development//Helios Calendar//EN
X-FROM-URL:https://www.bayareascience.org/calendar/index.php?com=details&eID=31776
X-WR-RELCALID:BayAreaScience.org Birth of a large volcanic edifice offshore Mayotte via lithosphere-scale dyke intrusion - Livestream 20220120T120000
X-WR-TIMEZONE:America/New_York
X-WR-CALNAME:BayAreaScience.org
BEGIN:VEVENT
URL;VALUE=URI:https://www.bayareascience.org/calendar/index.php?com=detail&eID=31776
DTSTART:20220120T120000
DTEND:20220120T130000
SUMMARY:Birth of a large volcanic edifice offshore Mayotte via lithosphere-scale dyke intrusion - Livestream
DESCRIPTION:Volcanic eruptions shape Earthâ€™s surface and provide a window into deep Earth processes. How the primary asthenospheric melts form\, pond and ascend through the lithosphere is\, however\, still...\n______________________________\nThis Event Downloaded From a Helios Calendar Powered Site
LOCATION:Stanford University -  \, \, CA  
CATEGORIES:BayAreaScience.org Events
PRIORITY:0
TRANSP:TRANSPARENT
END:VEVENT
END:VCALENDAR