BEGIN:VCALENDAR
VERSION:2.0
METHOD:PUBLISH
CALSCALE:GREGORIAN
PRODID:-//Refresh Web Development//Helios Calendar//EN
X-FROM-URL:https://www.bayareascience.org/calendar/index.php?com=details&eID=31784
X-WR-RELCALID:BayAreaScience.org  Science on Tap - Improving Groundwater Supply and Quality in California: Challenges and Opportunities  20220126T190000
X-WR-TIMEZONE:America/New_York
X-WR-CALNAME:BayAreaScience.org
BEGIN:VEVENT
URL;VALUE=URI:https://www.bayareascience.org/calendar/index.php?com=detail&eID=31784
DTSTART:20220126T190000
DTEND:20220126T190000
SUMMARY: Science on Tap - Improving Groundwater Supply and Quality in California: Challenges and Opportunities 
DESCRIPTION:Due to increased fresh water demand\, shifts in land use\, and climate change\, California is increasingly dependent on groundwater\, particularly in times of drought when surface water resources are...\n______________________________\nThis Event Downloaded From a Helios Calendar Powered Site
LOCATION:Museum of Art and History - 705 Front St Back Patio\, Santa Cruz\, CA  95060
CATEGORIES:BayAreaScience.org Events
PRIORITY:0
TRANSP:TRANSPARENT
END:VEVENT
END:VCALENDAR