BEGIN:VCALENDAR
VERSION:2.0
METHOD:PUBLISH
CALSCALE:GREGORIAN
PRODID:-//Refresh Web Development//Helios Calendar//EN
X-FROM-URL:https://www.bayareascience.org/calendar/index.php?com=details&eID=31793
X-WR-RELCALID:BayAreaScience.org Our Magnetic Universe - Livestream 20220201T190000
X-WR-TIMEZONE:America/New_York
X-WR-CALNAME:BayAreaScience.org
BEGIN:VEVENT
URL;VALUE=URI:https://www.bayareascience.org/calendar/index.php?com=detail&eID=31793
DTSTART:20220201T190000
DTEND:20220201T190000
SUMMARY:Our Magnetic Universe - Livestream
DESCRIPTION:The Universe...\n______________________________\nThis Event Downloaded From a Helios Calendar Powered Site
LOCATION:Kavli Institute for Particle Physics & Cosmology -  \, \, CA  
CATEGORIES:BayAreaScience.org Events
PRIORITY:0
TRANSP:TRANSPARENT
END:VEVENT
END:VCALENDAR