BEGIN:VCALENDAR
VERSION:2.0
METHOD:PUBLISH
CALSCALE:GREGORIAN
PRODID:-//Refresh Web Development//Helios Calendar//EN
X-FROM-URL:https://www.bayareascience.org/calendar/index.php?com=details&eID=31799
X-WR-RELCALID:BayAreaScience.org Virtual Star Party - Space Fest - Livestream 20220204T170000
X-WR-TIMEZONE:America/New_York
X-WR-CALNAME:BayAreaScience.org
BEGIN:VEVENT
URL;VALUE=URI:https://www.bayareascience.org/calendar/index.php?com=detail&eID=31799
DTSTART:20220204T170000
DTEND:20220204T190000
SUMMARY:Virtual Star Party - Space Fest - Livestream
DESCRIPTION:The future of space is as bright as the stars! From the JWST to LUCY to DART to VERITAS\, there are more missions than ever before working to study our universe. Join the Bell Museum planetarium...\n______________________________\nThis Event Downloaded From a Helios Calendar Powered Site
LOCATION:Bell Museum -  \, \, CA  
CATEGORIES:BayAreaScience.org Events
PRIORITY:0
TRANSP:TRANSPARENT
END:VEVENT
END:VCALENDAR