BEGIN:VCALENDAR
VERSION:2.0
METHOD:PUBLISH
CALSCALE:GREGORIAN
PRODID:-//Refresh Web Development//Helios Calendar//EN
X-FROM-URL:https://www.bayareascience.org/calendar/index.php?com=details&eID=31807
X-WR-RELCALID:BayAreaScience.org This Way to the Universe ... and to the Edge of Reality - Livestream 20220216T150000
X-WR-TIMEZONE:America/New_York
X-WR-CALNAME:BayAreaScience.org
BEGIN:VEVENT
URL;VALUE=URI:https://www.bayareascience.org/calendar/index.php?com=detail&eID=31807
DTSTART:20220216T150000
DTEND:20220216T160000
SUMMARY:This Way to the Universe ... and to the Edge of Reality - Livestream
DESCRIPTION:Modern physics provides a stunning view of the universe on scales both vast and miniscule\, and\, of course\, on the scale of our everyday lives. In his new book\, This Way to the Universe: A Theoretical...\n______________________________\nThis Event Downloaded From a Helios Calendar Powered Site
LOCATION:Commonwealth Club - Online Event -  \, \, CA  
CATEGORIES:BayAreaScience.org Events
PRIORITY:0
TRANSP:TRANSPARENT
END:VEVENT
END:VCALENDAR