BEGIN:VCALENDAR
VERSION:2.0
METHOD:PUBLISH
CALSCALE:GREGORIAN
PRODID:-//Refresh Web Development//Helios Calendar//EN
X-FROM-URL:https://www.bayareascience.org/calendar/index.php?com=details&eID=31814
X-WR-RELCALID:BayAreaScience.org Artificial Intelligence: the Good, the Bad, and the Ugly - Livestream 20220209T170000
X-WR-TIMEZONE:America/New_York
X-WR-CALNAME:BayAreaScience.org
BEGIN:VEVENT
URL;VALUE=URI:https://www.bayareascience.org/calendar/index.php?com=detail&eID=31814
DTSTART:20220209T170000
DTEND:20220209T180000
SUMMARY:Artificial Intelligence: the Good\, the Bad\, and the Ugly - Livestream
DESCRIPTION:Artificial Intelligence (AI) is a remarkable technology that has profoundly impacted our lives. It now beats humans at some of their own games. How did we get here? In this lecture\, Abu-Mostafa...\n______________________________\nThis Event Downloaded From a Helios Calendar Powered Site
LOCATION:Caltech -  \, \, CA  
CATEGORIES:BayAreaScience.org Events
PRIORITY:0
TRANSP:TRANSPARENT
END:VEVENT
END:VCALENDAR