BEGIN:VCALENDAR
VERSION:2.0
METHOD:PUBLISH
CALSCALE:GREGORIAN
PRODID:-//Refresh Web Development//Helios Calendar//EN
X-FROM-URL:https://www.bayareascience.org/calendar/index.php?com=details&eID=31817
X-WR-RELCALID:BayAreaScience.org Why do Dark Matter Halos Die Together: An Intergalactic Murder Mystery - Livestream 20220304T200000
X-WR-TIMEZONE:America/New_York
X-WR-CALNAME:BayAreaScience.org
BEGIN:VEVENT
URL;VALUE=URI:https://www.bayareascience.org/calendar/index.php?com=detail&eID=31817
DTSTART:20220304T200000
DTEND:20220304T200000
SUMMARY:Why do Dark Matter Halos Die Together: An Intergalactic Murder Mystery - Livestream
DESCRIPTION:Galaxies live their lives deep within massive invisible clumps of dark matter called "dark matter halos." The overwhelming gravity of dark matter halos cause their growth and evolution to control...\n______________________________\nThis Event Downloaded From a Helios Calendar Powered Site
LOCATION:San Mateo County Astronomical Society -  \, \, CA  
CATEGORIES:BayAreaScience.org Events
PRIORITY:0
TRANSP:TRANSPARENT
END:VEVENT
END:VCALENDAR