BEGIN:VCALENDAR
VERSION:2.0
METHOD:PUBLISH
CALSCALE:GREGORIAN
PRODID:-//Refresh Web Development//Helios Calendar//EN
X-FROM-URL:https://www.bayareascience.org/calendar/index.php?com=details&eID=31821
X-WR-RELCALID:BayAreaScience.org Space Fest 2022 - Spectacular Spacecraft, Extraordinary Missions - Livestream 20220205T090000
X-WR-TIMEZONE:America/New_York
X-WR-CALNAME:BayAreaScience.org
BEGIN:VEVENT
URL;VALUE=URI:https://www.bayareascience.org/calendar/index.php?com=detail&eID=31821
DTSTART:20220205T090000
DTEND:20220205T100000
SUMMARY:Space Fest 2022 - Spectacular Spacecraft\, Extraordinary Missions - Livestream
DESCRIPTION:Cruise through the solar system with NASAâ€™s Goddard Space Flight Center. Weâ€™ll explore groundbreaking space missions to destinations such as Saturnâ€™s...\n______________________________\nThis Event Downloaded From a Helios Calendar Powered Site
LOCATION:Bell Museum -  \, \, CA  
CATEGORIES:BayAreaScience.org Events
PRIORITY:0
TRANSP:TRANSPARENT
END:VEVENT
END:VCALENDAR