BEGIN:VCALENDAR
VERSION:2.0
METHOD:PUBLISH
CALSCALE:GREGORIAN
PRODID:-//Refresh Web Development//Helios Calendar//EN
X-FROM-URL:https://www.bayareascience.org/calendar/index.php?com=details&eID=31822
X-WR-RELCALID:BayAreaScience.org Space Fest 2022 - Moon, Mars, and Beyond! - Livestream 20220206T090000
X-WR-TIMEZONE:America/New_York
X-WR-CALNAME:BayAreaScience.org
BEGIN:VEVENT
URL;VALUE=URI:https://www.bayareascience.org/calendar/index.php?com=detail&eID=31822
DTSTART:20220206T090000
DTEND:20220206T103000
SUMMARY:Space Fest 2022 - Moon\, Mars\, and Beyond! - Livestream
DESCRIPTION:Come along with our crew of regional NASA Solar System Ambassadors on an exciting tour of current and future NASA space exploration...\n______________________________\nThis Event Downloaded From a Helios Calendar Powered Site
LOCATION:Bell Museum -  \, \, CA  
CATEGORIES:BayAreaScience.org Events
PRIORITY:0
TRANSP:TRANSPARENT
END:VEVENT
END:VCALENDAR