BEGIN:VCALENDAR
VERSION:2.0
METHOD:PUBLISH
CALSCALE:GREGORIAN
PRODID:-//Refresh Web Development//Helios Calendar//EN
X-FROM-URL:https://www.bayareascience.org/calendar/index.php?com=details&eID=31837
X-WR-RELCALID:BayAreaScience.org Pollinators in the Dark: Bats and their Flowers 20220208T180000
X-WR-TIMEZONE:America/New_York
X-WR-CALNAME:BayAreaScience.org
BEGIN:VEVENT
URL;VALUE=URI:https://www.bayareascience.org/calendar/index.php?com=detail&eID=31837
DTSTART:20220208T180000
DTEND:20220208T193000
SUMMARY:Pollinators in the Dark: Bats and their Flowers
DESCRIPTION:\n______________________________\nThis Event Downloaded From a Helios Calendar Powered Site
LOCATION:Santa Cruz Museum of Natural History - 1305 E Cliff Dr \, Santa Cruz\, CA  95062
CATEGORIES:BayAreaScience.org Events
PRIORITY:0
TRANSP:TRANSPARENT
END:VEVENT
END:VCALENDAR