BEGIN:VCALENDAR
VERSION:2.0
METHOD:PUBLISH
CALSCALE:GREGORIAN
PRODID:-//Refresh Web Development//Helios Calendar//EN
X-FROM-URL:https://www.bayareascience.org/calendar/index.php?com=details&eID=31840
X-WR-RELCALID:BayAreaScience.org Petrified Wood - Livestream 20220323T190000
X-WR-TIMEZONE:America/New_York
X-WR-CALNAME:BayAreaScience.org
BEGIN:VEVENT
URL;VALUE=URI:https://www.bayareascience.org/calendar/index.php?com=detail&eID=31840
DTSTART:20220323T190000
DTEND:20220323T203000
SUMMARY:Petrified Wood - Livestream
DESCRIPTION:Speaker: Doug Gottschlich\, Sequoia Gem and Mineral SocietySee weblink for instructions on obtaining Zoom access\n______________________________\nThis Event Downloaded From a Helios Calendar Powered Site
LOCATION:Peninsula Gem & Geology Society -  \, \, CA  
CATEGORIES:BayAreaScience.org Events
PRIORITY:0
TRANSP:TRANSPARENT
END:VEVENT
END:VCALENDAR