BEGIN:VCALENDAR
VERSION:2.0
METHOD:PUBLISH
CALSCALE:GREGORIAN
PRODID:-//Refresh Web Development//Helios Calendar//EN
X-FROM-URL:https://www.bayareascience.org/calendar/index.php?com=details&eID=31846
X-WR-RELCALID:BayAreaScience.org A spatial reconstruction of the Paleocene-Eocene Thermal Maximum: Windows into a hothouse world - Livestream 20220201T121500
X-WR-TIMEZONE:America/New_York
X-WR-CALNAME:BayAreaScience.org
BEGIN:VEVENT
URL;VALUE=URI:https://www.bayareascience.org/calendar/index.php?com=detail&eID=31846
DTSTART:20220201T121500
DTEND:20220201T131500
SUMMARY:A spatial reconstruction of the Paleocene-Eocene Thermal Maximum: Windows into a hothouse world - Livestream
DESCRIPTION:The Paleocene-Eocene...\n______________________________\nThis Event Downloaded From a Helios Calendar Powered Site
LOCATION:Stanford University -  \, \, CA  
CATEGORIES:BayAreaScience.org Events
PRIORITY:0
TRANSP:TRANSPARENT
END:VEVENT
END:VCALENDAR