BEGIN:VCALENDAR
VERSION:2.0
METHOD:PUBLISH
CALSCALE:GREGORIAN
PRODID:-//Refresh Web Development//Helios Calendar//EN
X-FROM-URL:https://www.bayareascience.org/calendar/index.php?com=details&eID=31847
X-WR-RELCALID:BayAreaScience.org Wonderfest: Starship Reality-Check: The Science of Deep Space Travel - RESCHEDULED 20220416T193000
X-WR-TIMEZONE:America/New_York
X-WR-CALNAME:BayAreaScience.org
BEGIN:VEVENT
URL;VALUE=URI:https://www.bayareascience.org/calendar/index.php?com=detail&eID=31847
DTSTART:20220416T193000
DTEND:20220416T210000
SUMMARY:Wonderfest: Starship Reality-Check: The Science of Deep Space Travel - RESCHEDULED
DESCRIPTION:The stars beckon. But humans evolved...\n______________________________\nThis Event Downloaded From a Helios Calendar Powered Site
LOCATION:Cushing Memorial ('Mountain') Amphitheater - Mt Tamalpais State Park Pan Toll Road and Ridgecrest Blvd\, Mill Valley\, CA USA 94941
CATEGORIES:BayAreaScience.org Events
PRIORITY:0
TRANSP:TRANSPARENT
END:VEVENT
END:VCALENDAR