BEGIN:VCALENDAR
VERSION:2.0
METHOD:PUBLISH
CALSCALE:GREGORIAN
PRODID:-//Refresh Web Development//Helios Calendar//EN
X-FROM-URL:https://www.bayareascience.org/calendar/index.php?com=details&eID=31849
X-WR-RELCALID:BayAreaScience.org From Healthy Whales to Healthy Oceans - Livestream 20220216T173000
X-WR-TIMEZONE:America/New_York
X-WR-CALNAME:BayAreaScience.org
BEGIN:VEVENT
URL;VALUE=URI:https://www.bayareascience.org/calendar/index.php?com=detail&eID=31849
DTSTART:20220216T173000
DTEND:20220216T173000
SUMMARY:From Healthy Whales to Healthy Oceans - Livestream
DESCRIPTION:Whales are iconic ocean animals that hold special places in the hearts of manyâ€"and are a critical link in the structure of healthy marine ecosystems. Our research team has developed tools...\n______________________________\nThis Event Downloaded From a Helios Calendar Powered Site
LOCATION:UC Santa Cruz -  \, \, CA  
CATEGORIES:BayAreaScience.org Events
PRIORITY:0
TRANSP:TRANSPARENT
END:VEVENT
END:VCALENDAR