BEGIN:VCALENDAR
VERSION:2.0
METHOD:PUBLISH
CALSCALE:GREGORIAN
PRODID:-//Refresh Web Development//Helios Calendar//EN
X-FROM-URL:https://www.bayareascience.org/calendar/index.php?com=details&eID=31850
X-WR-RELCALID:BayAreaScience.org Ask Me Anything (AMA): A session with Bjoern Schuller - Livestream 20220322T120000
X-WR-TIMEZONE:America/New_York
X-WR-CALNAME:BayAreaScience.org
BEGIN:VEVENT
URL;VALUE=URI:https://www.bayareascience.org/calendar/index.php?com=detail&eID=31850
DTSTART:20220322T120000
DTEND:20220322T140000
SUMMARY:Ask Me Anything (AMA): A session with Bjoern Schuller - Livestream
DESCRIPTION:Prof. BjÃ¶rn W. Schuller\, World Economic Forum honoree\, will be answering the questions on Artificial Emotional Intelligence (AEI)\, Affective Computing\, Digital Health and more.Register...\n______________________________\nThis Event Downloaded From a Helios Calendar Powered Site
LOCATION:SF Bay Association of Computing Machinery -  \, \, CA  
CATEGORIES:BayAreaScience.org Events
PRIORITY:0
TRANSP:TRANSPARENT
END:VEVENT
END:VCALENDAR