BEGIN:VCALENDAR
VERSION:2.0
METHOD:PUBLISH
CALSCALE:GREGORIAN
PRODID:-//Refresh Web Development//Helios Calendar//EN
X-FROM-URL:https://www.bayareascience.org/calendar/index.php?com=details&eID=31851
X-WR-RELCALID:BayAreaScience.org VIPER - A Next Great Leap in Mapping Water on the Moon - Livestream 20220211T200000
X-WR-TIMEZONE:America/New_York
X-WR-CALNAME:BayAreaScience.org
BEGIN:VEVENT
URL;VALUE=URI:https://www.bayareascience.org/calendar/index.php?com=detail&eID=31851
DTSTART:20220211T200000
DTEND:20220211T200000
SUMMARY:VIPER - A Next Great Leap in Mapping Water on the Moon - Livestream
DESCRIPTION:NASA is sending a mobile robot to the surface of the South Pole of the Moon to get a close-up view of the location and concentration of ice and other resources. The Volatiles Investigating Polar...\n______________________________\nThis Event Downloaded From a Helios Calendar Powered Site
LOCATION:San Mateo County Astronomical Society -  \, \, CA  
CATEGORIES:BayAreaScience.org Events
PRIORITY:0
TRANSP:TRANSPARENT
END:VEVENT
END:VCALENDAR