BEGIN:VCALENDAR
VERSION:2.0
METHOD:PUBLISH
CALSCALE:GREGORIAN
PRODID:-//Refresh Web Development//Helios Calendar//EN
X-FROM-URL:https://www.bayareascience.org/calendar/index.php?com=details&eID=31852
X-WR-RELCALID:BayAreaScience.org Ask the Experts: Omicron Update - Livestream 20220131T140000
X-WR-TIMEZONE:America/New_York
X-WR-CALNAME:BayAreaScience.org
BEGIN:VEVENT
URL;VALUE=URI:https://www.bayareascience.org/calendar/index.php?com=detail&eID=31852
DTSTART:20220131T140000
DTEND:20220131T150000
SUMMARY:Ask the Experts: Omicron Update - Livestream
DESCRIPTION:In late 2020\, scientists reported the emergence of a new variant of SARS-CoV-2: Omicron.Today\, Omicron accounts for about 98 percent of all COVID-19 cases in the United States. And many...\n______________________________\nThis Event Downloaded From a Helios Calendar Powered Site
LOCATION:Gladstone Institutes -  \, \, CA  
CATEGORIES:BayAreaScience.org Events
PRIORITY:0
TRANSP:TRANSPARENT
END:VEVENT
END:VCALENDAR