BEGIN:VCALENDAR
VERSION:2.0
METHOD:PUBLISH
CALSCALE:GREGORIAN
PRODID:-//Refresh Web Development//Helios Calendar//EN
X-FROM-URL:https://www.bayareascience.org/calendar/index.php?com=details&eID=31864
X-WR-RELCALID:BayAreaScience.org Teach & Learn in â€œThe Great Tech Storyâ€ - Livestream 20220323T160000
X-WR-TIMEZONE:America/New_York
X-WR-CALNAME:BayAreaScience.org
BEGIN:VEVENT
URL;VALUE=URI:https://www.bayareascience.org/calendar/index.php?com=detail&eID=31864
DTSTART:20220323T160000
DTEND:20220323T160000
SUMMARY:Teach & Learn in â€œThe Great Tech Storyâ€ - Livestream
DESCRIPTION:Join CHM Director of Education Kate McGregor to explore and discuss â€œThe Great Tech Story\,â€ the Computer History Museumâ€™s new world in Minecraft: Education Edition. The Great...\n______________________________\nThis Event Downloaded From a Helios Calendar Powered Site
LOCATION:Computer History Museum -  \, \, CA  
CATEGORIES:BayAreaScience.org Events
PRIORITY:0
TRANSP:TRANSPARENT
END:VEVENT
END:VCALENDAR