BEGIN:VCALENDAR
VERSION:2.0
METHOD:PUBLISH
CALSCALE:GREGORIAN
PRODID:-//Refresh Web Development//Helios Calendar//EN
X-FROM-URL:https://www.bayareascience.org/calendar/index.php?com=details&eID=31865
X-WR-RELCALID:BayAreaScience.org Stewart Brand and Silicon Valleyâ€™s Soul 20220331T190000
X-WR-TIMEZONE:America/New_York
X-WR-CALNAME:BayAreaScience.org
BEGIN:VEVENT
URL;VALUE=URI:https://www.bayareascience.org/calendar/index.php?com=detail&eID=31865
DTSTART:20220331T190000
DTEND:20220331T190000
SUMMARY:Stewart Brand and Silicon Valleyâ€™s Soul
DESCRIPTION:For decades Pulitzer Prize-winning New York Times reporter John Markoff has chronicled how technology has shaped our society. In his latest book\, Whole Earth: The Many Lives of Stewart Brand\, Markoff...\n______________________________\nThis Event Downloaded From a Helios Calendar Powered Site
LOCATION:Computer History Museum - 1401 N Shoreline Blvd  \, Mountain View\, CA  94043
CATEGORIES:BayAreaScience.org Events
PRIORITY:0
TRANSP:TRANSPARENT
END:VEVENT
END:VCALENDAR