BEGIN:VCALENDAR
VERSION:2.0
METHOD:PUBLISH
CALSCALE:GREGORIAN
PRODID:-//Refresh Web Development//Helios Calendar//EN
X-FROM-URL:https://www.bayareascience.org/calendar/index.php?com=details&eID=31867
X-WR-RELCALID:BayAreaScience.org  X-ray astrophysics enabled by microcalorimeter spectrometers - Livestream 20220218T193000
X-WR-TIMEZONE:America/New_York
X-WR-CALNAME:BayAreaScience.org
BEGIN:VEVENT
URL;VALUE=URI:https://www.bayareascience.org/calendar/index.php?com=detail&eID=31867
DTSTART:20220218T193000
DTEND:20220218T193000
SUMMARY: X-ray astrophysics enabled by microcalorimeter spectrometers - Livestream
DESCRIPTION:X-rays from astrophysical objects provide a view into some of natureâ€™s most violent and extreme environments. Telescopes sensitive to 0.1-100 keV photons provide unique probes of accreting...\n______________________________\nThis Event Downloaded From a Helios Calendar Powered Site
LOCATION:Tri-Valley Stargazers -  \, \, CA  
CATEGORIES:BayAreaScience.org Events
PRIORITY:0
TRANSP:TRANSPARENT
END:VEVENT
END:VCALENDAR