BEGIN:VCALENDAR
VERSION:2.0
METHOD:PUBLISH
CALSCALE:GREGORIAN
PRODID:-//Refresh Web Development//Helios Calendar//EN
X-FROM-URL:https://www.bayareascience.org/calendar/index.php?com=details&eID=31868
X-WR-RELCALID:BayAreaScience.org A Child's Botanical Valentine Tea - Livestream 20220213T100000
X-WR-TIMEZONE:America/New_York
X-WR-CALNAME:BayAreaScience.org
BEGIN:VEVENT
URL;VALUE=URI:https://www.bayareascience.org/calendar/index.php?com=detail&eID=31868
DTSTART:20220213T100000
DTEND:20220213T110000
SUMMARY:A Child's Botanical Valentine Tea - Livestream
DESCRIPTION:Our annual Botanical Valentine's Day Tea Family Program tradition returns as an at-home tea party and Zoom program. Enjoy a celebration of herbs and flowers as we use all of our senses to explore...\n______________________________\nThis Event Downloaded From a Helios Calendar Powered Site
LOCATION:UC Botanical Garden -  \, \, CA  
CATEGORIES:BayAreaScience.org Events
PRIORITY:0
TRANSP:TRANSPARENT
END:VEVENT
END:VCALENDAR