BEGIN:VCALENDAR
VERSION:2.0
METHOD:PUBLISH
CALSCALE:GREGORIAN
PRODID:-//Refresh Web Development//Helios Calendar//EN
X-FROM-URL:https://www.bayareascience.org/calendar/index.php?com=details&eID=31869
X-WR-RELCALID:BayAreaScience.org Beneath the Surface: The Impact of Captivity on Cetaceans - Livestream 20220322T190000
X-WR-TIMEZONE:America/New_York
X-WR-CALNAME:BayAreaScience.org
BEGIN:VEVENT
URL;VALUE=URI:https://www.bayareascience.org/calendar/index.php?com=detail&eID=31869
DTSTART:20220322T190000
DTEND:20220322T203000
SUMMARY:Beneath the Surface: The Impact of Captivity on Cetaceans - Livestream
DESCRIPTION:Join ACS San Francisco Bay Chapter for an enlightening talk by Naomi Rose\, Ph. D\, Marine Mammal Scientist at the Animal Welfare Institute. Dr. Rose is an expert on the impact of cetaceans in captivity....\n______________________________\nThis Event Downloaded From a Helios Calendar Powered Site
LOCATION:American Cetacean Society -  \, \, CA  
CATEGORIES:BayAreaScience.org Events
PRIORITY:0
TRANSP:TRANSPARENT
END:VEVENT
END:VCALENDAR