BEGIN:VCALENDAR
VERSION:2.0
METHOD:PUBLISH
CALSCALE:GREGORIAN
PRODID:-//Refresh Web Development//Helios Calendar//EN
X-FROM-URL:https://www.bayareascience.org/calendar/index.php?com=details&eID=31871
X-WR-RELCALID:BayAreaScience.org Mars Rover Landing Anniversary Party! 20220219T110000
X-WR-TIMEZONE:America/New_York
X-WR-CALNAME:BayAreaScience.org
BEGIN:VEVENT
URL;VALUE=URI:https://www.bayareascience.org/calendar/index.php?com=detail&eID=31871
DTSTART:20220219T110000
DTEND:20220219T160000
SUMMARY:Mars Rover Landing Anniversary Party!
DESCRIPTION:Join us in celebrating the first anniversary of NASA's Perseverance rover landing on Mars! Since landing on February 18\, 2021\, Perseverance has been hunting for signs...\n______________________________\nThis Event Downloaded From a Helios Calendar Powered Site
LOCATION:ExplOratorium - Pier 15 (Embarcadero at Green Street)  \, San Francisco\, CA USA 94111
CATEGORIES:BayAreaScience.org Events
PRIORITY:0
TRANSP:TRANSPARENT
END:VEVENT
END:VCALENDAR