BEGIN:VCALENDAR
VERSION:2.0
METHOD:PUBLISH
CALSCALE:GREGORIAN
PRODID:-//Refresh Web Development//Helios Calendar//EN
X-FROM-URL:https://www.bayareascience.org/calendar/index.php?com=details&eID=31877
X-WR-RELCALID:BayAreaScience.org Polymerizations in Pickering Emulsions as a Route to Hybrid Materials 20220318T140000
X-WR-TIMEZONE:America/New_York
X-WR-CALNAME:BayAreaScience.org
BEGIN:VEVENT
URL;VALUE=URI:https://www.bayareascience.org/calendar/index.php?com=detail&eID=31877
DTSTART:20220318T140000
DTEND:20220318T150000
SUMMARY:Polymerizations in Pickering Emulsions as a Route to Hybrid Materials
DESCRIPTION:Pickering emulsions\, or those stabilized by solid particles\, provide a distinct template for the production of composite structures which combine the properties of the particles\, the droplets\,...\n______________________________\nThis Event Downloaded From a Helios Calendar Powered Site
LOCATION:LeConte Hall\, Rm 4 - UC Berkeley \, Berkeley\, CA  94720
CATEGORIES:BayAreaScience.org Events
PRIORITY:0
TRANSP:TRANSPARENT
END:VEVENT
END:VCALENDAR