BEGIN:VCALENDAR
VERSION:2.0
METHOD:PUBLISH
CALSCALE:GREGORIAN
PRODID:-//Refresh Web Development//Helios Calendar//EN
X-FROM-URL:https://www.bayareascience.org/calendar/index.php?com=details&eID=31883
X-WR-RELCALID:BayAreaScience.org Outdoor Survival Skills (And How To Avoid Needing Them!) - Livestream 20220224T190000
X-WR-TIMEZONE:America/New_York
X-WR-CALNAME:BayAreaScience.org
BEGIN:VEVENT
URL;VALUE=URI:https://www.bayareascience.org/calendar/index.php?com=detail&eID=31883
DTSTART:20220224T190000
DTEND:20220224T200000
SUMMARY:Outdoor Survival Skills (And How To Avoid Needing Them!) - Livestream
DESCRIPTION:Many of us have heard...\n______________________________\nThis Event Downloaded From a Helios Calendar Powered Site
LOCATION:Peninsula Open Space Trust -  \, \, CA  
CATEGORIES:BayAreaScience.org Events
PRIORITY:0
TRANSP:TRANSPARENT
END:VEVENT
END:VCALENDAR