BEGIN:VCALENDAR
VERSION:2.0
METHOD:PUBLISH
CALSCALE:GREGORIAN
PRODID:-//Refresh Web Development//Helios Calendar//EN
X-FROM-URL:https://www.bayareascience.org/calendar/index.php?com=details&eID=31890
X-WR-RELCALID:BayAreaScience.org Artificial Gamer: Film Screening and Panel on the Battle of AI vs. Humans in Esports 20220318T190000
X-WR-TIMEZONE:America/New_York
X-WR-CALNAME:BayAreaScience.org
BEGIN:VEVENT
URL;VALUE=URI:https://www.bayareascience.org/calendar/index.php?com=detail&eID=31890
DTSTART:20220318T190000
DTEND:20220318T190000
SUMMARY:Artificial Gamer: Film Screening and Panel on the Battle of AI vs. Humans in Esports
DESCRIPTION:A passionate team of Silicon Valley engineers at OpenAI is in a race to develop an artificial intelligence bot capable of defeating the world champions of one of the...\n______________________________\nThis Event Downloaded From a Helios Calendar Powered Site
LOCATION:Computer History Museum - 1401 N Shoreline Blvd  \, Mountain View\, CA  94043
CATEGORIES:BayAreaScience.org Events
PRIORITY:0
TRANSP:TRANSPARENT
END:VEVENT
END:VCALENDAR